BEGIN:VCALENDAR
VERSION:2.0
PRODID:-//hacksw/handcal//NONSGML v1.0//EN
BEGIN:VEVENT
SUMMARY:Rencontre GE7
UID:9ac3dff0-16fe-4bf0-afd8-f6e193eac06c
DTSTART:20260206T190000Z
DTEND:20260208T213000Z
LOCATION:Localisation   
CATEGORIES:Sportif
STATUS:
URL;VALUE=URI:https://atthoudemont.sportsregions.fr/evenements/2026/02/06/rencontre-ge7-2440188
END:VEVENT
END:VCALENDAR
