BEGIN:VCALENDAR
VERSION:2.0
PRODID:-//hacksw/handcal//NONSGML v1.0//EN
BEGIN:VEVENT
SUMMARY:Rencontre GE7
UID:e1141412-a7e6-4af4-8852-41fd459d602a
DTSTART:20260320T190000Z
DTEND:20260320T220000Z
LOCATION:Localisation   
CATEGORIES:Sportif
STATUS:
URL;VALUE=URI:https://atthoudemont.sportsregions.fr/evenements/2026/03/20/rencontre-ge7-2431436
END:VEVENT
END:VCALENDAR
