BEGIN:VCALENDAR
VERSION:2.0
PRODID:-//hacksw/handcal//NONSGML v1.0//EN
BEGIN:VEVENT
SUMMARY:Entrainement pour tous sous reserve de l'ouverture de la salle
UID:0d58ca04-f7a4-4e99-90f7-24ca8baff4ca
DTSTART:20260406T160000Z
DTEND:20260406T180000Z
LOCATION:Localisation   
CATEGORIES:Sportif
STATUS:
URL;VALUE=URI:https://atthoudemont.sportsregions.fr/evenements/2026/04/06/entrainement-pour-tous-sous-reserve-de-louverture-de-la-salle-2438642
END:VEVENT
END:VCALENDAR
