BEGIN:VCALENDAR
VERSION:2.0
PRODID:-//hacksw/handcal//NONSGML v1.0//EN
BEGIN:VEVENT
SUMMARY:Rencontre GE5
UID:a8b42acd-0cf0-4faf-a0c8-41c679592fea
DTSTART:20260410T180000Z
DTEND:20260410T210000Z
LOCATION:Localisation   
CATEGORIES:Sportif
STATUS:
URL;VALUE=URI:https://atthoudemont.sportsregions.fr/evenements/2026/04/10/rencontre-ge5-2440347
END:VEVENT
END:VCALENDAR
