BEGIN:VCALENDAR
VERSION:2.0
PRODID:-//hacksw/handcal//NONSGML v1.0//EN
BEGIN:VEVENT
SUMMARY:Rencontre GE6
UID:cd16b2c6-86a9-4cc2-b87b-861a2c057609
DTSTART:20260410T180000Z
DTEND:20260410T210000Z
LOCATION:Localisation   
CATEGORIES:Sportif
STATUS:
URL;VALUE=URI:https://atthoudemont.sportsregions.fr/evenements/2026/04/10/rencontre-ge6-2440346
END:VEVENT
END:VCALENDAR
