BEGIN:VCALENDAR
VERSION:2.0
PRODID:-//hacksw/handcal//NONSGML v1.0//EN
BEGIN:VEVENT
SUMMARY:Rencontre GE2
UID:9403e09b-e998-44ab-a164-984d00779781
DTSTART:20260412T073000Z
DTEND:20260412T103000Z
LOCATION:Localisation   
CATEGORIES:Sportif
STATUS:
URL;VALUE=URI:https://atthoudemont.sportsregions.fr/evenements/2026/04/12/rencontre-ge2-2440358
END:VEVENT
END:VCALENDAR
