BEGIN:VCALENDAR
VERSION:2.0
PRODID:-//hacksw/handcal//NONSGML v1.0//EN
BEGIN:VEVENT
SUMMARY:Entrainement pour tous
UID:c43fe166-a42e-4eaf-963b-e0335727a123
DTSTART:20260424T170000Z
DTEND:20260424T200000Z
LOCATION:Localisation   
CATEGORIES:Sportif
STATUS:
URL;VALUE=URI:https://atthoudemont.sportsregions.fr/evenements/2026/04/24/entrainement-pour-tous-2440406
END:VEVENT
END:VCALENDAR
